BEGIN:VCALENDAR
VERSION:2.0
PRODID:-//Debovasha - ECPv6.15.11//NONSGML v1.0//EN
CALSCALE:GREGORIAN
METHOD:PUBLISH
X-WR-CALNAME:Debovasha
X-ORIGINAL-URL:https://debovasha.com
X-WR-CALDESC:Events for Debovasha
REFRESH-INTERVAL;VALUE=DURATION:PT1H
X-Robots-Tag:noindex
X-PUBLISHED-TTL:PT1H
BEGIN:VTIMEZONE
TZID:Asia/Kolkata
BEGIN:STANDARD
TZOFFSETFROM:+0530
TZOFFSETTO:+0530
TZNAME:IST
DTSTART:20240101T000000
END:STANDARD
END:VTIMEZONE
BEGIN:VEVENT
DTSTART;VALUE=DATE:20251129
DTEND;VALUE=DATE:20251228
DTSTAMP:20260422T030100
CREATED:20250714T110139Z
LAST-MODIFIED:20251211T101125Z
UID:7851-1764374400-1766879999@debovasha.com
SUMMARY:Reba Somnath. A path together... A path apart
DESCRIPTION:  \nOne may find it difficult to comprehend the extent of depth of this exhibition\, as happens generally\, the viewer judges an exhibition on the basis of an array of seen or unseen artworks\, done by a solo artist or two or a group. The copresence of these two artists primarily reminds us of the term ‘couple’ which does not carry any special significance\, because our thought finds its fulfilment in the realization of how\, by severing the the clasp of the term ‘matrimony’\, two independent minds kept themselves engaged in an individual yet inseparable journey of shared moral value that appears as an important commentary of our cultural history. \nPlenty of paintings are created each day\, but the discovery of their language resonates with an eternal pathos. Reba and Somenath Hore not only created their paintings\, but they also dedicated their lives to generating newer pictorial languages. But their lifestyle was far from being extravagant; they spent their life full of activity in search of a widespread vision. \nThis exhibition showcases the artistic creations of different phases of their lives. The portraits that they made of each other during the course of their journey called life are also included here. The presentation of those artworks finds its origin in the profound perception of Chandana Hore; without her active participation\, Debovasha\, abode of book and art\, would never be able to arrange such an exhibition\, which will remain a treasure to Debovasha forever. \nReba Hore\n\n			\n			\n								\n								\n									\n					            \n                Add to Cart            \n\n            			\n			\n				\n					\n					artwork\, Contact Seller\, online exhibition\, reba hore artwork\, reba somnath exhibitionDSR01			\n		\nRead more	\n			\n				\n			\n		\n		\n\n			\n			\n								\n								\n									\n					            \n                Add to Cart            \n\n            			\n			\n				\n					\n					artwork\, Contact Seller\, online exhibition\, reba hore artwork\, reba somnath exhibitionDSR02			\n		\nRead more	\n			\n				\n			\n		\n		\n\n			\n			\n								\n								\n									\n					            \n                Add to Cart            \n\n            			\n			\n				\n					\n					artwork\, Contact Seller\, online exhibition\, reba hore artwork\, reba somnath exhibitionDSR03			\n		\nRead more	\n			\n				\n			\n		\n		\n\n			\n			\n								\n								\n									\n					            \n                Add to Cart            \n\n            			\n			\n				\n					\n					artwork\, Contact Seller\, online exhibition\, reba hore artwork\, reba somnath exhibitionDSR04			\n		\nRead more	\n			\n				\n			\n		\n		\n\n			\n			\n								\n								\n									\n					            \n                Add to Cart            \n\n            			\n			\n				\n					\n					artwork\, Contact Seller\, online exhibition\, reba hore artwork\, reba somnath exhibitionDSR05			\n		\nRead more	\n			\n				\n			\n		\n		\n\n			\n			\n								\n								\n									\n					            \n                Add to Cart            \n\n            			\n			\n				\n					\n					artwork\, Contact Seller\, online exhibition\, reba hore artwork\, reba somnath exhibitionDSR06			\n		\nRead more	\n			\n				\n			\n		\n		\n\n			\n			\n								\n								\n									\n					            \n                Add to Cart            \n\n            			\n			\n				\n					\n					artwork\, Contact Seller\, online exhibition\, reba hore artwork\, reba somnath exhibitionDSR07			\n		\nRead more	\n			\n				\n			\n		\n		\n\n			\n			\n								\n								\n									\n					            \n                Add to Cart            \n\n            			\n			\n				\n					\n					artwork\, Contact Seller\, online exhibition\, reba hore artwork\, reba somnath exhibitionDSR08			\n		\nRead more	\n			\n				\n			\n		\n		\n\n			\n			\n								\n								\n									\n					            \n                Add to Cart            \n\n            			\n			\n				\n					\n					artwork\, Contact Seller\, online exhibition\, reba hore artwork\, reba somnath exhibitionDSR09			\n		\nRead more	\n			\n				\n			\n		\n		\n\n			\n			\n								\n								\n									\n					            \n                Add to Cart            \n\n            			\n			\n				\n					\n					artwork\, Contact Seller\, online exhibition\, reba hore artwork\, reba somnath exhibitionDSR10			\n		\nRead more	\n			\n				\n			\n		\n		\n\n			\n			\n								\n								\n									\n					            \n                Add to Cart            \n\n            			\n			\n				\n					\n					artwork\, Contact Seller\, online exhibition\, reba hore artwork\, reba somnath exhibitionDSR11			\n		\nRead more	\n			\n				\n			\n		\n		\n\n			\n			\n								\n								\n									\n					            \n                Add to Cart            \n\n            			\n			\n				\n					\n					artwork\, Contact Seller\, online exhibition\, reba hore artwork\, reba somnath exhibitionDSR12			\n		\nRead more	\n			\n				\n			\n		\n		\n\n			\n			\n								\n								\n									\n					            \n                Add to Cart            \n\n            			\n			\n				\n					\n					artwork\, Contact Seller\, online exhibition\, reba hore artwork\, reba somnath exhibitionDSR13			\n		\nRead more	\n			\n				\n			\n		\n		\n\n			\n			\n								\n								\n									\n					            \n                Add to Cart            \n\n            			\n			\n				\n					\n					artwork\, Contact Seller\, online exhibition\, reba hore artwork\, reba somnath exhibitionDSR14			\n		\nRead more	\n			\n				\n			\n		\n		\n\n			\n			\n								\n								\n									\n					            \n                Add to Cart            \n\n            			\n			\n				\n					\n					artwork\, Contact Seller\, online exhibition\, reba hore artwork\, reba somnath exhibitionDSR15			\n		\nRead more	\n			\n				\n			\n		\n		\n\n			\n			\n								\n								\n									\n					            \n                Add to Cart            \n\n            			\n			\n				\n					\n					artwork\, Contact Seller\, online exhibition\, reba hore artwork\, reba somnath exhibitionDSR16			\n		\nRead more	\n			\n				\n			\n		\n		\n\n			\n			\n								\n								\n									\n					            \n                Add to Cart            \n\n            			\n			\n				\n					\n					artwork\, Contact Seller\, online exhibition\, reba hore artwork\, reba somnath exhibitionDSR17			\n		\nRead more	\n			\n				\n			\n		\n		\n\n			\n			\n								\n								\n									\n					            \n                Add to Cart            \n\n            			\n			\n				\n					\n					artwork\, Contact Seller\, online exhibition\, reba hore artwork\, reba somnath exhibitionDSR18			\n		\nRead more	\n			\n				\n			\n		\n		\n\n			\n			\n								\n								\n									\n					            \n                Add to Cart            \n\n            			\n			\n				\n					\n					artwork\, Contact Seller\, online exhibition\, reba hore artwork\, reba somnath exhibitionDSR19			\n		\nRead more	\n			\n				\n			\n		\n		\n\n			\n			\n								\n								\n									\n					            \n                Add to Cart            \n\n            			\n			\n				\n					\n					artwork\, Contact Seller\, online exhibition\, reba hore artwork\, reba somnath exhibitionDSR20A			\n		\nRead more	\n			\n				\n			\n		\n		\n\n			\n			\n								\n								\n									\n					            \n                Add to Cart            \n\n            			\n			\n				\n					\n					artwork\, Contact Seller\, online exhibition\, reba hore artwork\, reba somnath exhibitionDSR21A			\n		\nRead more	\n			\n				\n			\n		\n		\n\n			\n			\n								\n								\n									\n					            \n                Add to Cart            \n\n            			\n			\n				\n					\n					artwork\, Contact Seller\, online exhibition\, reba hore artwork\, reba somnath exhibitionDSR21B			\n		\nRead more	\n			\n				\n			\n		\n		\n\n			\n			\n								\n								\n									\n					            \n                Add to Cart            \n\n            			\n			\n				\n					\n					artwork\, Contact Seller\, online exhibition\, reba hore artwork\, reba somnath exhibitionDSR22A			\n		\nRead more	\n			\n				\n			\n		\n		\n\n			\n			\n								\n								\n									\n					            \n                Add to Cart            \n\n            			\n			\n				\n					\n					artwork\, Contact Seller\, online exhibition\, reba hore artwork\, reba somnath exhibitionDSR22B			\n		\nRead more	\n			\n				\n			\n		\n		\n\n			\n			\n								\n								\n									\n					            \n                Add to Cart            \n\n            			\n			\n				\n					\n					artwork\, Contact Seller\, online exhibition\, reba hore artwork\, reba somnath exhibitionDSR23			\n		\nRead more	\n			\n				\n			\n		\n		\n\n			\n			\n								\n								\n									\n					            \n                Add to Cart            \n\n            			\n			\n				\n					\n					artwork\, Contact Seller\, online exhibition\, reba hore artwork\, reba somnath exhibitionDSR24A			\n		\nRead more	\n			\n				\n			\n		\n		\n\n			\n			\n								\n								\n									\n					            \n                Add to Cart            \n\n            			\n			\n				\n					\n					artwork\, Contact Seller\, online exhibition\, reba hore artwork\, reba somnath exhibitionDSR24B			\n		\nRead more	\n			\n				\n			\n		\n		\n\n			\n			\n								\n								\n									\n					            \n                Add to Cart            \n\n            			\n			\n				\n					\n					artwork\, Contact Seller\, online exhibition\, reba hore artwork\, reba somnath exhibitionDSR25			\n		\nRead more	\n			\n				\n			\n		\n		\n\n			\n			\n								\n								\n									\n					            \n                Add to Cart            \n\n            			\n			\n				\n					\n					artwork\, Contact Seller\, online exhibition\, reba hore artwork\, reba somnath exhibitionDSR26			\n		\nRead more	\n			\n				\n			\n		\n		\n\n			\n			\n								\n								\n									\n					            \n                Add to Cart            \n\n            			\n			\n				\n					\n					artwork\, Contact Seller\, online exhibition\, reba hore artwork\, reba somnath exhibitionDSR27			\n		\nRead more	\n			\n				\n			\n		\n		\n\n			\n			\n								\n								\n									\n					            \n                Add to Cart            \n\n            			\n			\n				\n					\n					artwork\, Contact Seller\, online exhibition\, reba hore artwork\, reba somnath exhibitionDSR28			\n		\nRead more	\n			\n				\n			\n		\n		\n\n			\n			\n								\n								\n									\n					            \n                Add to Cart            \n\n            			\n			\n				\n					\n					artwork\, Contact Seller\, online exhibition\, reba hore artwork\, reba somnath exhibitionDSR29			\n		\nRead more	\n			\n				\n			\n		\n		\n\n			\n			\n								\n								\n									\n					            \n                Add to Cart            \n\n            			\n			\n				\n					\n					artwork\, Contact Seller\, online exhibition\, reba hore artwork\, reba somnath exhibitionDSR30			\n		\nRead more	\n			\n				\n			\n		\n		\n\n			\n			\n								\n								\n									\n					            \n                Add to Cart            \n\n            			\n			\n				\n					\n					artwork\, Contact Seller\, online exhibition\, reba hore artwork\, reba somnath exhibitionDSR31A			\n		\nRead more	\n			\n				\n			\n		\n		\n\n			\n			\n								\n								\n									\n					            \n                Add to Cart            \n\n            			\n			\n				\n					\n					artwork\, Contact Seller\, online exhibition\, reba hore artwork\, reba somnath exhibitionDSR31B			\n		\nRead more	\n			\n				\n			\n		\n		\n\n			\n			\n								\n								\n									\n					            \n                Add to Cart            \n\n            			\n			\n				\n					\n					artwork\, Contact Seller\, online exhibition\, reba hore artwork\, reba somnath exhibitionDSR32A			\n		\nRead more	\n			\n				\n			\n		\n		\n\n			\n			\n								\n								\n									\n					            \n                Add to Cart            \n\n            			\n			\n				\n					\n					artwork\, Contact Seller\, online exhibition\, reba hore artwork\, reba somnath exhibitionDSR32B			\n		\nRead more	\n			\n				\n			\n		\n		\n\n			\n			\n								\n								\n									\n					            \n                Add to Cart            \n\n            			\n			\n				\n					\n					artwork\, Contact Seller\, online exhibition\, reba hore artwork\, reba somnath exhibitionDSR33A			\n		\nRead more	\n			\n				\n			\n		\n		\n\n			\n			\n								\n								\n									\n					            \n                Add to Cart            \n\n            			\n			\n				\n					\n					artwork\, Contact Seller\, online exhibition\, reba hore artwork\, reba somnath exhibitionDSR33B			\n		\nRead more	\n			\n				\n			\n		\n		\n\n			\n			\n								\n								\n									\n					            \n                Add to Cart            \n\n            			\n			\n				\n					\n					artwork\, Contact Seller\, online exhibition\, reba hore artwork\, reba somnath exhibitionDSR34			\n		\nRead more	\n			\n				\n			\n		\n		\n\n			\n			\n								\n								\n									\n					            \n                Add to Cart            \n\n            			\n			\n				\n					\n					artwork\, Contact Seller\, online exhibition\, reba hore artwork\, reba somnath exhibitionDSR35			\n		\nRead more	\n			\n				\n			\n		\n		\n\n			\n			\n								\n								\n									\n					            \n                Add to Cart            \n\n            			\n			\n				\n					\n					artwork\, Contact Seller\, online exhibition\, reba hore artwork\, reba somnath exhibitionDSR36			\n		\nRead more	\n			\n				\n			\n		\n		\n\n			\n			\n								\n								\n									\n					            \n                Add to Cart            \n\n            			\n			\n				\n					\n					artwork\, Contact Seller\, online exhibition\, reba hore artwork\, reba somnath exhibitionDSR37			\n		\nRead more	\n			\n				\n			\n		\n		\n\n			\n			\n								\n								\n									\n					            \n                Add to Cart            \n\n            			\n			\n				\n					\n					artwork\, Contact Seller\, online exhibition\, reba hore artwork\, reba somnath exhibitionDSR38			\n		\nRead more	\n			\n				\n			\n		\n		\n\n			\n			\n								\n								\n									\n					            \n                Add to Cart            \n\n            			\n			\n				\n					\n					artwork\, Contact Seller\, online exhibition\, reba hore artwork\, reba somnath exhibitionDSR39A			\n		\nRead more	\n			\n				\n			\n		\n		\n\n			\n			\n								\n								\n									\n					            \n                Add to Cart            \n\n            			\n			\n				\n					\n					artwork\, Contact Seller\, online exhibition\, reba hore artwork\, reba somnath exhibitionDSR39B			\n		\nRead more	\n			\n				\n			\n		\n		\n\n			\n			\n								\n								\n									\n					            \n                Add to Cart            \n\n            			\n			\n				\n					\n					artwork\, Contact Seller\, online exhibition\, reba hore artwork\, reba somnath exhibitionDSR40			\n		\nRead more	\n			\n				\n			\n		\n		\n\n			\n			\n								\n								\n									\n					            \n                Add to Cart            \n\n            			\n			\n				\n					\n					artwork\, Contact Seller\, online exhibition\, reba hore artwork\, reba somnath exhibitionDSR41			\n		\nRead more	\n			\n				\n			\n		\n		\n\n			\n			\n								\n								\n									\n					            \n                Add to Cart            \n\n            			\n			\n				\n					\n					artwork\, Contact Seller\, online exhibition\, reba hore artwork\, reba somnath exhibitionDSR42			\n		\nRead more	\n			\n				\n			\n		\n		\n\n			\n			\n								\n								\n									\n					            \n                Add to Cart            \n\n            			\n			\n				\n					\n					artwork\, Contact Seller\, online exhibition\, reba hore artwork\, reba somnath exhibitionDSR43			\n		\nRead more	\n			\n				\n			\n		\n		\n\n			\n			\n								\n								\n									\n					            \n                Add to Cart            \n\n            			\n			\n				\n					\n					artwork\, Contact Seller\, online exhibition\, reba hore artwork\, reba somnath exhibitionDSR44			\n		\nRead more	\n			\n				\n			\n		\n		\n\n			\n			\n								\n								\n									\n					            \n                Add to Cart            \n\n            			\n			\n				\n					\n					artwork\, Contact Seller\, online exhibition\, reba hore artwork\, reba somnath exhibitionDSR45			\n		\nRead more	\n			\n				\n			\n		\n		\n\n			\n			\n								\n								\n									\n					            \n                Add to Cart            \n\n            			\n			\n				\n					\n					artwork\, Contact Seller\, online exhibition\, reba hore artwork\, reba somnath exhibitionDSR46			\n		\nRead more	\n			\n				\n			\n		\n		\n\n			\n			\n								\n								\n									\n					            \n                Add to Cart            \n\n            			\n			\n				\n					\n					artwork\, Contact Seller\, online exhibition\, reba hore artwork\, reba somnath exhibitionDSR47			\n		\nRead more	\n			\n				\n			\n		\n		\n\n			\n			\n								\n								\n									\n					            \n                Add to Cart            \n\n            			\n			\n				\n					\n					artwork\, Contact Seller\, online exhibition\, reba hore artwork\, reba somnath exhibitionDSR48			\n		\nRead more	\n			\n				\n			\n		\n		\n\n			\n			\n								\n								\n									\n					            \n                Add to Cart            \n\n            			\n			\n				\n					\n					artwork\, Contact Seller\, online exhibition\, reba hore artwork\, reba somnath exhibitionDSR49			\n		\nRead more	\n			\n				\n			\n		\n		\n\n			\n			\n								\n								\n									\n					            \n                Add to Cart            \n\n            			\n			\n				\n					\n					artwork\, Contact Seller\, online exhibition\, reba hore artwork\, reba somnath exhibitionDSR50			\n		\nRead more	\n			\n				\n			\n		\n		\n\n			\n			\n								\n								\n									\n					            \n                Add to Cart            \n\n            			\n			\n				\n					\n					artwork\, Contact Seller\, online exhibition\, reba hore artwork\, reba somnath exhibitionDSR51			\n		\nRead more	\n			\n				\n			\n		\n		\n\n			\n			\n								\n								\n									\n					            \n                Add to Cart            \n\n            			\n			\n				\n					\n					artwork\, Contact Seller\, online exhibition\, reba hore artwork\, reba somnath exhibitionDSR52			\n		\nRead more	\n			\n				\n			\n		\n		\n\n			\n			\n								\n								\n									\n					            \n                Add to Cart            \n\n            			\n			\n				\n					\n					artwork\, Contact Seller\, online exhibition\, reba hore artwork\, reba somnath exhibitionDSR53			\n		\nRead more	\n			\n				\n			\n		\n		\n\n			\n			\n								\n								\n									\n					            \n                Add to Cart            \n\n            			\n			\n				\n					\n					artwork\, Contact Seller\, online exhibition\, reba hore artwork\, reba somnath exhibitionDSR54			\n		\nRead more	\n			\n				\n			\n		\n		\n\nSomnath Hore\n\n			\n			\n								\n								\n									\n					            \n                Add to Cart            \n\n            			\n			\n				\n					\n					artwork\, Contact Seller\, online exhibition\, reba somnath exhibition\, somnath hore artworksDSR55			\n		\nRead more	\n			\n				\n			\n		\n		\n\n			\n			\n								\n								\n									\n					            \n                Add to Cart            \n\n            			\n			\n				\n					\n					artwork\, Contact Seller\, online exhibition\, reba somnath exhibition\, somnath hore artworksDSR56			\n		\nRead more	\n			\n				\n			\n		\n		\n\n			\n			\n								\n								\n									\n					            \n                Add to Cart            \n\n            			\n			\n				\n					\n					artwork\, Contact Seller\, online exhibition\, reba somnath exhibition\, somnath hore artworksDSR57			\n		\nRead more	\n			\n				\n			\n		\n		\n\n			\n			\n								\n								\n									\n					            \n                Add to Cart            \n\n            			\n			\n				\n					\n					artwork\, Contact Seller\, online exhibition\, reba somnath exhibition\, somnath hore artworksDSR58			\n		\nRead more	\n			\n				\n			\n		\n		\n\n			\n			\n								\n								\n									\n					            \n                Add to Cart            \n\n            			\n			\n				\n					\n					artwork\, Contact Seller\, online exhibition\, reba somnath exhibition\, somnath hore artworksDSR59			\n		\nRead more	\n			\n				\n			\n		\n		\n\n			\n			\n								\n								\n									\n					            \n                Add to Cart            \n\n            			\n			\n				\n					\n					artwork\, Contact Seller\, online exhibition\, reba somnath exhibition\, somnath hore artworksDSR60			\n		\nRead more	\n			\n				\n			\n		\n		\n\n			\n			\n								\n								\n									\n					            \n                Add to Cart            \n\n            			\n			\n				\n					\n					artwork\, Contact Seller\, online exhibition\, reba somnath exhibition\, somnath hore artworksDSR61			\n		\nRead more	\n			\n				\n			\n		\n		\n\n			\n			\n								\n								\n									\n					            \n                Add to Cart            \n\n            			\n			\n				\n					\n					artwork\, Contact Seller\, online exhibition\, reba somnath exhibition\, somnath hore artworksDSR62			\n		\nRead more	\n			\n				\n			\n		\n		\n\n			\n			\n								\n								\n									\n					            \n                Add to Cart            \n\n            			\n			\n				\n					\n					artwork\, Contact Seller\, online exhibition\, reba somnath exhibition\, somnath hore artworksDSR63			\n		\nRead more	\n			\n				\n			\n		\n		\n\n			\n			\n								\n								\n									\n					            \n                Add to Cart            \n\n            			\n			\n				\n					\n					artwork\, Contact Seller\, online exhibition\, reba somnath exhibition\, somnath hore artworksDSR64			\n		\nRead more	\n			\n				\n			\n		\n		\n\n			\n			\n								\n								\n									\n					            \n                Add to Cart            \n\n            			\n			\n				\n					\n					artwork\, Contact Seller\, online exhibition\, reba somnath exhibition\, somnath hore artworksDSR65			\n		\nRead more	\n			\n				\n			\n		\n		\n\n			\n			\n								\n								\n									\n					            \n                Add to Cart            \n\n            			\n			\n				\n					\n					artwork\, Contact Seller\, online exhibition\, reba somnath exhibition\, somnath hore artworksDSR66			\n		\nRead more	\n			\n				\n			\n		\n		\n\n			\n			\n								\n								\n									\n					            \n                Add to Cart            \n\n            			\n			\n				\n					\n					artwork\, Contact Seller\, online exhibition\, reba somnath exhibition\, somnath hore artworksDSR67			\n		\nRead more	\n			\n				\n			\n		\n		\n\n			\n			\n								\n								\n									\n					            \n                Add to Cart            \n\n            			\n			\n				\n					\n					artwork\, Contact Seller\, online exhibition\, reba somnath exhibition\, somnath hore artworksDSR68			\n		\nRead more	\n			\n				\n			\n		\n		\n\n			\n			\n								\n								\n									\n					            \n                Add to Cart            \n\n            			\n			\n				\n					\n					artwork\, Contact Seller\, online exhibition\, reba somnath exhibition\, somnath hore artworksDSR69			\n		\nRead more	\n			\n				\n			\n		\n		\n\n			\n			\n								\n								\n									\n					            \n                Add to Cart            \n\n            			\n			\n				\n					\n					artwork\, Contact Seller\, online exhibition\, reba somnath exhibition\, somnath hore artworksDSR70			\n		\nRead more	\n			\n				\n			\n		\n		\n\n			\n			\n								\n								\n									\n					            \n                Add to Cart            \n\n            			\n			\n				\n					\n					artwork\, Contact Seller\, online exhibition\, reba somnath exhibition\, somnath hore artworksDSR71			\n		\nRead more	\n			\n				\n			\n		\n		\n\n			\n			\n								\n								\n									\n					            \n                Add to Cart            \n\n            			\n			\n				\n					\n					artwork\, Contact Seller\, online exhibition\, reba somnath exhibition\, somnath hore artworksDSR72			\n		\nRead more	\n			\n				\n			\n		\n		\n\n			\n			\n								\n								\n									\n					            \n                Add to Cart            \n\n            			\n			\n				\n					\n					artwork\, Contact Seller\, online exhibition\, reba somnath exhibition\, somnath hore artworksDSR73			\n		\nRead more	\n			\n				\n			\n		\n		\n\n			\n			\n								\n								\n									\n					            \n                Add to Cart            \n\n            			\n			\n				\n					\n					artwork\, Contact Seller\, online exhibition\, reba somnath exhibition\, somnath hore artworksDSR74			\n		\nRead more	\n			\n				\n			\n		\n		\n\n			\n			\n								\n								\n									\n					            \n                Add to Cart            \n\n            			\n			\n				\n					\n					artwork\, Contact Seller\, online exhibition\, reba somnath exhibition\, somnath hore artworksDSR75			\n		\nRead more	\n			\n				\n			\n		\n		\n\n			\n			\n								\n								\n									\n					            \n                Add to Cart            \n\n            			\n			\n				\n					\n					artwork\, Contact Seller\, online exhibition\, reba somnath exhibition\, somnath hore artworksDSR76			\n		\nRead more	\n			\n				\n			\n		\n		\n\n			\n			\n								\n								\n									\n					            \n                Add to Cart            \n\n            			\n			\n				\n					\n					artwork\, Contact Seller\, online exhibition\, reba somnath exhibition\, somnath hore artworksDSR77			\n		\nRead more	\n			\n				\n			\n		\n		\n\n			\n			\n								\n								\n									\n					            \n                Add to Cart            \n\n            			\n			\n				\n					\n					artwork\, Contact Seller\, online exhibition\, reba somnath exhibition\, somnath hore artworksDSR78			\n		\nRead more	\n			\n				\n			\n		\n		\n\n			\n			\n								\n								\n									\n					            \n                Add to Cart            \n\n            			\n			\n				\n					\n					artwork\, Contact Seller\, online exhibition\, reba somnath exhibition\, somnath hore artworksDSR79			\n		\nRead more
URL:https://debovasha.com/event/reba-somnath-a-path-together-a-path-apart/
LOCATION:Debovasha\, End of Jibanananda Bridge\, 70/2\, Selimpur Rd\, Dhakuria\, Selimpur\, Kolkata\, West Bengal 700031\, Kolkata\, West Bengal\, 700031\, India
CATEGORIES:Gallery Exhibition
ORGANIZER;CN="Debovasha":MAILTO:info@debovasha.com
END:VEVENT
END:VCALENDAR